BEGIN:VCALENDAR
VERSION:2.0
PRODID:icalendar-ruby
CALSCALE:GREGORIAN
METHOD:PUBLISH
BEGIN:VEVENT
DTSTAMP:20260422T154924Z
UID:55-530879@clevelandumc.com
DTSTART:20260423T220000Z
DTEND:20260423T233000Z
CLASS:PUBLIC
CREATED:20260421T090930
DESCRIPTION:Email the office for information on location.
LAST-MODIFIED:20260421T090930
LOCATION:
SUMMARY:Elan Circle Meeting
URL;VALUE=URI:https://www.clevelandumc.com/events/elan-circle-meeting/2026-
 04-23
ATTACH;FILENAME=Elan Circle.jpg;FMTTYPE=image/jpeg:https://dq5pwpg1q8ru0.cl
 oudfront.net/2024/05/07/17/29/34/bc61c6d9-ac12-4e2c-92bf-4d7b7c0c0d0f/Elan
 %20Circle.jpg
END:VEVENT
END:VCALENDAR
