BEGIN:VCALENDAR
VERSION:2.0
PRODID:icalendar-ruby
CALSCALE:GREGORIAN
METHOD:PUBLISH
BEGIN:VEVENT
DTSTAMP:20260422T135356Z
UID:304-529201@clevelandumc.com
DTSTART:20260621T141500Z
DTEND:20260622T024000Z
CLASS:PUBLIC
CREATED:20260420T142047
DESCRIPTION:All men are welcome to join us in the Commons for donuts.
LAST-MODIFIED:20260420T142047
LOCATION:Commons
SUMMARY:Donuts For Dads
URL;VALUE=URI:https://www.clevelandumc.com/events/donuts-for-dads/2026-06-2
 1
ATTACH;FILENAME=Doughnuts for Dads 26.jpg;FMTTYPE=image/jpeg:https://dq5pwp
 g1q8ru0.cloudfront.net/2026/04/20/18/20/40/a3a70a38-1fad-4927-bb63-b2ff0e3
 ae8a5/Doughnuts%20for%20Dads%2026.jpg
END:VEVENT
END:VCALENDAR
